BEGIN:VCALENDAR
VERSION:2.0
PRODID:-//ChamberMaster//Event Calendar 2.0//EN
METHOD:PUBLISH
X-PUBLISHED-TTL:P3D
REFRESH-INTERVAL:P3D
CALSCALE:GREGORIAN
BEGIN:VEVENT
DTSTART:20161011T223000Z
DTEND:20161012T000000Z
X-MICROSOFT-CDO-ALLDAYEVENT:FALSE
SUMMARY:Gather\, Grog & Give
DESCRIPTION:An Event to Benefit Anu Family Services! Join other business owners\, friends\, community partners\, and Anu supporters at Fair State Brewing Cooperative for an evening of socializing\, beer sampling\, and learning more about the transformational impact Anu is having on our community. It's a great opportunity for you to get to know other Anu supporters\, sample a delicious local craft beer\, and learn more about Anu's innovative work and help create meaningful change for youth and families. What's not to love about that? Bring your friends and colleagues and join us for this great event!
X-ALT-DESC;FMTTYPE=text/html:An Event to Benefit Anu Family Services! Join other business owners\, friends\, community partners\, and Anu supporters at Fair State Brewing Cooperative for an evening of socializing\, beer sampling\, and learning more about the transformational impact Anu is having on our community. It&rsquo\;s a great opportunity for you to get to know other Anu supporters\, sample a delicious local craft beer\, and learn more about Anu&rsquo\;s innovative work and help create meaningful change for youth and families. What&rsquo\;s not to love about that? Bring your friends and colleagues and join us for this great event!
LOCATION:Fair State Brewing Cooperative 2506 Central Ave NE Minneapolis\, MN 55418
UID:e.1132.333025
SEQUENCE:3
DTSTAMP:20260426T032001Z
URL:http://midwaychamber.chambermaster.com/events/details/gather-grog-give-333025
END:VEVENT

END:VCALENDAR
